BEGIN:VCALENDAR
VERSION:2.0
PRODID:-//Bullaren.com - ECPv6.15.20//NONSGML v1.0//EN
CALSCALE:GREGORIAN
METHOD:PUBLISH
X-ORIGINAL-URL:https://bullaren.com
X-WR-CALDESC:Händelser för Bullaren.com
REFRESH-INTERVAL;VALUE=DURATION:PT1H
X-Robots-Tag:noindex
X-PUBLISHED-TTL:PT1H
BEGIN:VTIMEZONE
TZID:Europe/Stockholm
BEGIN:DAYLIGHT
TZOFFSETFROM:+0100
TZOFFSETTO:+0200
TZNAME:CEST
DTSTART:20240331T010000
END:DAYLIGHT
BEGIN:STANDARD
TZOFFSETFROM:+0200
TZOFFSETTO:+0100
TZNAME:CET
DTSTART:20241027T010000
END:STANDARD
BEGIN:DAYLIGHT
TZOFFSETFROM:+0100
TZOFFSETTO:+0200
TZNAME:CEST
DTSTART:20250330T010000
END:DAYLIGHT
BEGIN:STANDARD
TZOFFSETFROM:+0200
TZOFFSETTO:+0100
TZNAME:CET
DTSTART:20251026T010000
END:STANDARD
BEGIN:DAYLIGHT
TZOFFSETFROM:+0100
TZOFFSETTO:+0200
TZNAME:CEST
DTSTART:20260329T010000
END:DAYLIGHT
BEGIN:STANDARD
TZOFFSETFROM:+0200
TZOFFSETTO:+0100
TZNAME:CET
DTSTART:20261025T010000
END:STANDARD
END:VTIMEZONE
BEGIN:VEVENT
DTSTART;TZID=Europe/Stockholm:20250606T180000
DTEND;TZID=Europe/Stockholm:20250608T170000
DTSTAMP:20260421T072731
CREATED:20250520T172340Z
LAST-MODIFIED:20250520T172358Z
UID:1683-1749232800-1749402000@bullaren.com
SUMMARY:Cars on The Farm
DESCRIPTION:
URL:https://bullaren.com/evenemang/cars-on-the-farm/
LOCATION:Gribsröd Gård\, Norway
END:VEVENT
BEGIN:VEVENT
DTSTART;TZID=Europe/Stockholm:20250620T143000
DTEND;TZID=Europe/Stockholm:20250620T170000
DTSTAMP:20260421T072731
CREATED:20250611T185326Z
LAST-MODIFIED:20250611T185350Z
UID:1694-1750429800-1750438800@bullaren.com
SUMMARY:Midsommarfirande på Östad
DESCRIPTION:Midsommarafton 20/6 anordnar Hembygdsföreningen traditionsenligt midsommarfirande på Östad med musik\, dans och lekar.
URL:https://bullaren.com/evenemang/midsommarfirande-pa-ostad/
LOCATION:Museet på Östad\, Östad\, Bullaren\, 457 51\, Sweden
END:VEVENT
END:VCALENDAR