BEGIN:VCALENDAR
VERSION:2.0
PRODID:-//Bullaren.com - ECPv6.15.20//NONSGML v1.0//EN
CALSCALE:GREGORIAN
METHOD:PUBLISH
X-ORIGINAL-URL:https://bullaren.com
X-WR-CALDESC:Händelser för Bullaren.com
REFRESH-INTERVAL;VALUE=DURATION:PT1H
X-Robots-Tag:noindex
X-PUBLISHED-TTL:PT1H
BEGIN:VTIMEZONE
TZID:Europe/Stockholm
BEGIN:DAYLIGHT
TZOFFSETFROM:+0100
TZOFFSETTO:+0200
TZNAME:CEST
DTSTART:20230326T010000
END:DAYLIGHT
BEGIN:STANDARD
TZOFFSETFROM:+0200
TZOFFSETTO:+0100
TZNAME:CET
DTSTART:20231029T010000
END:STANDARD
BEGIN:DAYLIGHT
TZOFFSETFROM:+0100
TZOFFSETTO:+0200
TZNAME:CEST
DTSTART:20240331T010000
END:DAYLIGHT
BEGIN:STANDARD
TZOFFSETFROM:+0200
TZOFFSETTO:+0100
TZNAME:CET
DTSTART:20241027T010000
END:STANDARD
BEGIN:DAYLIGHT
TZOFFSETFROM:+0100
TZOFFSETTO:+0200
TZNAME:CEST
DTSTART:20250330T010000
END:DAYLIGHT
BEGIN:STANDARD
TZOFFSETFROM:+0200
TZOFFSETTO:+0100
TZNAME:CET
DTSTART:20251026T010000
END:STANDARD
END:VTIMEZONE
BEGIN:VEVENT
DTSTART;TZID=Europe/Stockholm:20240803T130000
DTEND;TZID=Europe/Stockholm:20240803T220000
DTSTAMP:20260421T015631
CREATED:20240512T110620Z
LAST-MODIFIED:20240512T113018Z
UID:1393-1722690000-1722722400@bullaren.com
SUMMARY:Musik på Jack´s Place
DESCRIPTION:Marcus Larbring spelar på kvällen.\nFörbokning kan göras på www.jackplace.se
URL:https://bullaren.com/evenemang/musik-pa-jacks-place-11/
LOCATION:Jack´s Place\, Bullarebygdens Familje camping\, Vassbotten
END:VEVENT
BEGIN:VEVENT
DTSTART;TZID=Europe/Stockholm:20240731T130000
DTEND;TZID=Europe/Stockholm:20240731T220000
DTSTAMP:20260421T015631
CREATED:20240512T105617Z
LAST-MODIFIED:20240512T112627Z
UID:1390-1722430800-1722463200@bullaren.com
SUMMARY:Musik på Jack´s Place
DESCRIPTION:Kapten Krigge spelar på kvällen. Förbokning kan göras på www.jackplace.se
URL:https://bullaren.com/evenemang/musik-pa-jacks-place-10/
LOCATION:Jack´s Place\, Bullarebygdens Familje camping\, Vassbotten
END:VEVENT
BEGIN:VEVENT
DTSTART;TZID=Europe/Stockholm:20240727T130000
DTEND;TZID=Europe/Stockholm:20240727T220000
DTSTAMP:20260421T015631
CREATED:20240512T105126Z
LAST-MODIFIED:20240512T113043Z
UID:1387-1722085200-1722117600@bullaren.com
SUMMARY:Musik på Jack´s Place
DESCRIPTION:Stoneland Rockduo spelar på kvällen.\nFörbokning kan göras på www.jackplace.se
URL:https://bullaren.com/evenemang/musik-pa-jacks-place-9/
LOCATION:Jack´s Place\, Bullarebygdens Familje camping\, Vassbotten
END:VEVENT
BEGIN:VEVENT
DTSTART;TZID=Europe/Stockholm:20240724T130000
DTEND;TZID=Europe/Stockholm:20240724T220000
DTSTAMP:20260421T015631
CREATED:20240512T104323Z
LAST-MODIFIED:20240512T112722Z
UID:1384-1721826000-1721858400@bullaren.com
SUMMARY:Musik på Jack´s Place
DESCRIPTION:Andersson & Högdahl spelar på kvällen. Förbokning kan göras på www.jackplace.se
URL:https://bullaren.com/evenemang/musik-pa-jacks-place-8/
LOCATION:Jack´s Place\, Bullarebygdens Familje camping\, Vassbotten
END:VEVENT
BEGIN:VEVENT
DTSTART;TZID=Europe/Stockholm:20240720T160000
DTEND;TZID=Europe/Stockholm:20240720T160000
DTSTAMP:20260421T015631
CREATED:20240619T153451Z
LAST-MODIFIED:20240712T064736Z
UID:1428-1721491200-1721491200@bullaren.com
SUMMARY:Traktorslalom med kärra
DESCRIPTION:Herrklass: Traktorslalom med kärra. \nDamklass: Traktorslalom utan kärra. \nFörsäljning av mat och dricka. \nAnmälan och ytterligare information\, kontakta Frank 0706854043. \nGratis inträde.
URL:https://bullaren.com/evenemang/traktorslalom-med-karra/
LOCATION:Älgeland\, Högarna\, Bullaren\, 45751\, Sverige
ATTACH;FMTTYPE=image/png:https://bullaren.com/wp-content/uploads/2024/02/Traktorrace-3.png
END:VEVENT
BEGIN:VEVENT
DTSTART;TZID=Europe/Stockholm:20240720T130000
DTEND;TZID=Europe/Stockholm:20240720T220000
DTSTAMP:20260421T015631
CREATED:20240510T154010Z
LAST-MODIFIED:20240510T154025Z
UID:1382-1721480400-1721512800@bullaren.com
SUMMARY:Musik på Jack´s Place
DESCRIPTION:Kim & Kent spelar på kvällen.\nDansband som spelar på vår altan.
URL:https://bullaren.com/evenemang/musik-pa-jacks-place-7/
LOCATION:Jack´s Place\, Bullarebygdens Familje camping\, Vassbotten
END:VEVENT
BEGIN:VEVENT
DTSTART;TZID=Europe/Stockholm:20240717T130000
DTEND;TZID=Europe/Stockholm:20240717T220000
DTSTAMP:20260421T015631
CREATED:20240510T153303Z
LAST-MODIFIED:20240510T153303Z
UID:1380-1721221200-1721253600@bullaren.com
SUMMARY:Musik på Jack's Place
DESCRIPTION:Sören Hjalmarsson spelar på kvällen.\nFörbokning kan göras på www.jacksplace.se
URL:https://bullaren.com/evenemang/musik-pa-jacks-place-6/
LOCATION:Jack´s Place\, Bullarebygdens Familje camping\, Vassbotten
END:VEVENT
BEGIN:VEVENT
DTSTART;TZID=Europe/Stockholm:20240713T130000
DTEND;TZID=Europe/Stockholm:20240713T220000
DTSTAMP:20260421T015631
CREATED:20240510T152056Z
LAST-MODIFIED:20240510T152957Z
UID:1370-1720875600-1720908000@bullaren.com
SUMMARY:Musik på Jack´s Place
DESCRIPTION:Stefan Axfjord Spelar på kvällen.\nFörbokning kan göras på www.jacksplace.se
URL:https://bullaren.com/evenemang/musik-pa-jacks-place-5/
LOCATION:Jack´s Place\, Bullarebygdens Familje camping\, Vassbotten
END:VEVENT
BEGIN:VEVENT
DTSTART;TZID=Europe/Stockholm:20240713T093000
DTEND;TZID=Europe/Stockholm:20240713T153000
DTSTAMP:20260421T015631
CREATED:20240625T082624Z
LAST-MODIFIED:20240625T082624Z
UID:1434-1720863000-1720884600@bullaren.com
SUMMARY:Liekurs
DESCRIPTION:
URL:https://bullaren.com/evenemang/liekurs-2/
LOCATION:Hantverkshuset på Östad
END:VEVENT
BEGIN:VEVENT
DTSTART;TZID=Europe/Stockholm:20240706T130000
DTEND;TZID=Europe/Stockholm:20240706T220000
DTSTAMP:20260421T015631
CREATED:20240510T151752Z
LAST-MODIFIED:20240510T152723Z
UID:1368-1720270800-1720303200@bullaren.com
SUMMARY:Musik på Jack´s Place
DESCRIPTION:Raddis David spelar på kvällen.\nFörbokning kan göras på www.jacksplace.se
URL:https://bullaren.com/evenemang/musik-pa-jacks-place-4/
LOCATION:Jack´s Place\, Bullarebygdens Familje camping\, Vassbotten
END:VEVENT
BEGIN:VEVENT
DTSTART;TZID=Europe/Stockholm:20240629T130000
DTEND;TZID=Europe/Stockholm:20240629T220000
DTSTAMP:20260421T015631
CREATED:20240510T150641Z
LAST-MODIFIED:20240510T152550Z
UID:1366-1719666000-1719698400@bullaren.com
SUMMARY:Musik på Jack´s Place
DESCRIPTION:Thomas Johansson spelar på kvällen.\nFörbokning kan göras på www.jacksplace.se
URL:https://bullaren.com/evenemang/musik-pa-jacks-place-3/
LOCATION:Jack´s Place\, Bullarebygdens Familje camping\, Vassbotten
END:VEVENT
BEGIN:VEVENT
DTSTART;TZID=Europe/Stockholm:20240622T130000
DTEND;TZID=Europe/Stockholm:20240622T220000
DTSTAMP:20260421T015631
CREATED:20240510T145855Z
LAST-MODIFIED:20240510T152442Z
UID:1363-1719061200-1719093600@bullaren.com
SUMMARY:Musik på Jack´s Place
DESCRIPTION:Stoneland Rockduo spelar på kvällen.\nFörbokning kan göras på www.jacksplace.se
URL:https://bullaren.com/evenemang/musik-pa-jacks-place-2/
LOCATION:Jack´s Place\, Bullarebygdens Familje camping\, Vassbotten
END:VEVENT
BEGIN:VEVENT
DTSTART;VALUE=DATE:20240621
DTEND;VALUE=DATE:20240622
DTSTAMP:20260421T015631
CREATED:20240521T080814Z
LAST-MODIFIED:20240523T103827Z
UID:1418-1718928000-1719014399@bullaren.com
SUMMARY:Midsommarfirande
DESCRIPTION:Välkomna till det traditionsenliga midsommarfirandet på vid muséet på Östad. \nMidsommarafton kl. 14.30 samling i trädgården vid sidan av museet.\nTag med blommor och var med att klä midsommarstången. \nVi reser stången tillsammans\, därefter blir det dans och lek.\nTag gärna med kaffekorg. \nHembygdsmuséet är öppet. \nÖstads Livs bjuder alla barn på glass! \nHuvudbry står för underhållningen. \n  \nHjärtligt välkomna!
URL:https://bullaren.com/evenemang/midsommarfirande/
LOCATION:Hantverkshuset på Östad
ATTACH;FMTTYPE=image/png:https://bullaren.com/wp-content/uploads/2024/05/Ledighet-Midsommar-2024-1200x800-1.png
END:VEVENT
BEGIN:VEVENT
DTSTART;TZID=Europe/Stockholm:20240615T130000
DTEND;TZID=Europe/Stockholm:20240615T235900
DTSTAMP:20260421T015631
CREATED:20240510T145159Z
LAST-MODIFIED:20240510T152341Z
UID:1360-1718456400-1718495940@bullaren.com
SUMMARY:Musik på Jack´s Place
DESCRIPTION:Kapten Krigge spelar på kvällen.\nFörbokning kan göras på www.jacksplace.se
URL:https://bullaren.com/evenemang/musik-pa-jacks-place/
LOCATION:Jack´s Place\, Bullarebygdens Familje camping\, Vassbotten
END:VEVENT
BEGIN:VEVENT
DTSTART;TZID=Europe/Stockholm:20240518T190000
DTEND;TZID=Europe/Stockholm:20240518T235900
DTSTAMP:20260421T015631
CREATED:20240509T094750Z
LAST-MODIFIED:20240509T100118Z
UID:1355-1716058800-1716076740@bullaren.com
SUMMARY:Musik på Jack´s Place
DESCRIPTION:Stoneland Rockduo spelar under kvällen.\nFörbokning kan göras på www.jacksplace.se
URL:https://bullaren.com/evenemang/upptrade-pa-jacks-place/
LOCATION:Jack´s Place\, Bullarebygdens Familje camping\, Vassbotten
END:VEVENT
BEGIN:VEVENT
DTSTART;TZID=Europe/Stockholm:20240515T180000
DTEND;TZID=Europe/Stockholm:20240515T180000
DTSTAMP:20260421T015631
CREATED:20240418T092839Z
LAST-MODIFIED:20240418T095336Z
UID:1335-1715796000-1715796000@bullaren.com
SUMMARY:Ukulelekonsert
DESCRIPTION:Ukulele i Bullaregården\nOnsdag 15 maj kl. 18.00 \nBullarens Ukuleleensemble blandar och ger\nNi får vad ni hör och ni får vad ni ser\nI Ingers soppa ni kaga kan doppa\,\ntill vårat lotteri ni lotter kan shoppa\nKaffe och en liten kaka ska det bli\nAllt detta är värt 150 :- tycker vi \nAnmälan till Rita 070 288 10 84 senast 12 maj \nHjärtligt välkomna!
URL:https://bullaren.com/evenemang/ukulelekonsert/
LOCATION:Bullaregården
END:VEVENT
BEGIN:VEVENT
DTSTART;TZID=Europe/Stockholm:20240504T080000
DTEND;TZID=Europe/Stockholm:20240504T170000
DTSTAMP:20260421T015631
CREATED:20240327T104235Z
LAST-MODIFIED:20240418T110513Z
UID:1272-1714809600-1714842000@bullaren.com
SUMMARY:Kul på Hjul
DESCRIPTION:
URL:https://bullaren.com/evenemang/kul-pa-hjul/
LOCATION:Bullaregården
END:VEVENT
BEGIN:VEVENT
DTSTART;TZID=Europe/Stockholm:20240430T180000
DTEND;TZID=Europe/Stockholm:20240430T180000
DTSTAMP:20260421T015631
CREATED:20240418T095030Z
LAST-MODIFIED:20240418T095039Z
UID:1339-1714500000-1714500000@bullaren.com
SUMMARY:Valborgsmässofirande
DESCRIPTION:Vi firar Valborg runt Bullaresjöns stränder\, i år på Bullarebygdens Familjecamping Vassbotten. \nValborgsmässoafton klockan 18.00 \, ses vi vid badplatsen. \nUnderhållning av gruppen ”Glutenfritt” och Maria Edmark håller tal till våren. \nSverker Hellström läser dikt. \nÅrskurs 6 från Backa Skola har försäljning av fika.
URL:https://bullaren.com/evenemang/valborgsmassofirande/
END:VEVENT
BEGIN:VEVENT
DTSTART;TZID=Europe/Stockholm:20240427T183000
DTEND;TZID=Europe/Stockholm:20240427T183000
DTSTAMP:20260421T015631
CREATED:20240327T103946Z
LAST-MODIFIED:20240430T073250Z
UID:1270-1714242600-1714242600@bullaren.com
SUMMARY:Westby Bluesband
DESCRIPTION:Anmälan till Dan  0728870905  eller Folke 0701586689 \nAnge om mat önskas. \nInträde: 125kr \nInträde med mat: 225kr \nÖppen bar.
URL:https://bullaren.com/evenemang/vestby-bluesband/
LOCATION:Bullaregården
END:VEVENT
BEGIN:VEVENT
DTSTART;TZID=Europe/Stockholm:20240425T100000
DTEND;TZID=Europe/Stockholm:20240425T130000
DTSTAMP:20260421T015631
CREATED:20240418T100954Z
LAST-MODIFIED:20240418T101256Z
UID:1343-1714039200-1714050000@bullaren.com
SUMMARY:Våffelcafé
DESCRIPTION:Våffelcafe varje torsdagar med start 1 /2   10-13    till 25/4
URL:https://bullaren.com/evenemang/vaffelcafe-2/
LOCATION:Hantverkshuset på Östad
END:VEVENT
BEGIN:VEVENT
DTSTART;TZID=Europe/Stockholm:20240424T180000
DTEND;TZID=Europe/Stockholm:20240424T180000
DTSTAMP:20260421T015631
CREATED:20240327T101548Z
LAST-MODIFIED:20240327T101918Z
UID:1259-1713981600-1713981600@bullaren.com
SUMMARY:Berättarkväll
DESCRIPTION:Bengt Therner från Strömstad minns och reflekterar från ett halvt sekel som utrikeskorrespondent för Sveriges Radio.
URL:https://bullaren.com/evenemang/berattarkvall/
LOCATION:Hantverkshuset på Östad
END:VEVENT
BEGIN:VEVENT
DTSTART;TZID=Europe/Stockholm:20240422T130000
DTEND;TZID=Europe/Stockholm:20240422T150000
DTSTAMP:20260421T015631
CREATED:20240418T101216Z
LAST-MODIFIED:20240418T101216Z
UID:1345-1713790800-1713798000@bullaren.com
SUMMARY:Handarbetscafé
DESCRIPTION:Handarbetscafé\nMåndagar udda veckor\, kl 13-15\nStartar den 29 januari – 22 april
URL:https://bullaren.com/evenemang/handarbetscafe/
LOCATION:Hantverkshuset på Östad
END:VEVENT
BEGIN:VEVENT
DTSTART;TZID=Europe/Stockholm:20240421T170000
DTEND;TZID=Europe/Stockholm:20240421T170000
DTSTAMP:20260421T015631
CREATED:20240327T103308Z
LAST-MODIFIED:20240327T103536Z
UID:1266-1713718800-1713718800@bullaren.com
SUMMARY:Årsmöte Bullarens hembygdsförening
DESCRIPTION:Välkomna!
URL:https://bullaren.com/evenemang/arsmote/
LOCATION:Hantverkshuset på Östad
END:VEVENT
BEGIN:VEVENT
DTSTART;TZID=Europe/Stockholm:20240413T180000
DTEND;TZID=Europe/Stockholm:20240414T020000
DTSTAMP:20260421T015631
CREATED:20240326T120047Z
LAST-MODIFIED:20240328T085807Z
UID:1254-1713031200-1713060000@bullaren.com
SUMMARY:After ski
DESCRIPTION:Afterskifest på Crusaders\nLive på scen ROCK-CIRCUS\nInkl.mat
URL:https://bullaren.com/evenemang/after-ski/
LOCATION:Crusaders
END:VEVENT
BEGIN:VEVENT
DTSTART;TZID=Europe/Stockholm:20240408T130000
DTEND;TZID=Europe/Stockholm:20240408T150000
DTSTAMP:20260421T015631
CREATED:20240326T095921Z
LAST-MODIFIED:20240326T115600Z
UID:1213-1712581200-1712588400@bullaren.com
SUMMARY:Handarbetescafé
DESCRIPTION:
URL:https://bullaren.com/evenemang/handarbetescafe/
LOCATION:Hantverkshuset på Östad
END:VEVENT
BEGIN:VEVENT
DTSTART;TZID=Europe/Stockholm:20240328T100000
DTEND;TZID=Europe/Stockholm:20240328T130000
DTSTAMP:20260421T015631
CREATED:20240326T094516Z
LAST-MODIFIED:20240326T115528Z
UID:1208-1711620000-1711630800@bullaren.com
SUMMARY:Våffelkcafé
DESCRIPTION:Våffelkcafé \nStartar den 1 februari\, därefter varje torsdag mellan kl 10 – 13 \nVälkomna!
URL:https://bullaren.com/evenemang/vaffelkcafe-pa-hantverkshuset/
LOCATION:Hantverkshuset på Östad
END:VEVENT
END:VCALENDAR