BEGIN:VCALENDAR
VERSION:2.0
PRODID:-//Bullaren.com - ECPv6.15.20//NONSGML v1.0//EN
CALSCALE:GREGORIAN
METHOD:PUBLISH
X-WR-CALNAME:Bullaren.com
X-ORIGINAL-URL:https://bullaren.com
X-WR-CALDESC:Händelser för Bullaren.com
REFRESH-INTERVAL;VALUE=DURATION:PT1H
X-Robots-Tag:noindex
X-PUBLISHED-TTL:PT1H
BEGIN:VTIMEZONE
TZID:Europe/Stockholm
BEGIN:DAYLIGHT
TZOFFSETFROM:+0100
TZOFFSETTO:+0200
TZNAME:CEST
DTSTART:20230326T010000
END:DAYLIGHT
BEGIN:STANDARD
TZOFFSETFROM:+0200
TZOFFSETTO:+0100
TZNAME:CET
DTSTART:20231029T010000
END:STANDARD
BEGIN:DAYLIGHT
TZOFFSETFROM:+0100
TZOFFSETTO:+0200
TZNAME:CEST
DTSTART:20240331T010000
END:DAYLIGHT
BEGIN:STANDARD
TZOFFSETFROM:+0200
TZOFFSETTO:+0100
TZNAME:CET
DTSTART:20241027T010000
END:STANDARD
BEGIN:DAYLIGHT
TZOFFSETFROM:+0100
TZOFFSETTO:+0200
TZNAME:CEST
DTSTART:20250330T010000
END:DAYLIGHT
BEGIN:STANDARD
TZOFFSETFROM:+0200
TZOFFSETTO:+0100
TZNAME:CET
DTSTART:20251026T010000
END:STANDARD
BEGIN:DAYLIGHT
TZOFFSETFROM:+0100
TZOFFSETTO:+0200
TZNAME:CEST
DTSTART:20260329T010000
END:DAYLIGHT
BEGIN:STANDARD
TZOFFSETFROM:+0200
TZOFFSETTO:+0100
TZNAME:CET
DTSTART:20261025T010000
END:STANDARD
END:VTIMEZONE
BEGIN:VEVENT
DTSTART;TZID=Europe/Stockholm:20250324T130000
DTEND;TZID=Europe/Stockholm:20250324T150000
DTSTAMP:20260420T221155
CREATED:20250320T093627Z
LAST-MODIFIED:20250320T093627Z
UID:1560-1742821200-1742828400@bullaren.com
SUMMARY:Handarbetscafé
DESCRIPTION:Välkomna till Handarbetscafé\nHantverkshuset\, Östad\nMåndagar udda veckor\, kl 13-15\nStartar den 27 januari
URL:https://bullaren.com/evenemang/handarbetscafe-6/
LOCATION:Hantverkshuset på Östad
END:VEVENT
BEGIN:VEVENT
DTSTART;TZID=Europe/Stockholm:20250322T190000
DTEND;TZID=Europe/Stockholm:20250323T010000
DTSTAMP:20260420T221155
CREATED:20250320T093952Z
LAST-MODIFIED:20250320T093952Z
UID:1564-1742670000-1742691600@bullaren.com
SUMMARY:Bullaregården 30 år
DESCRIPTION:
URL:https://bullaren.com/evenemang/bullaregarden-30-ar/
LOCATION:Bullaregården
END:VEVENT
BEGIN:VEVENT
DTSTART;TZID=Europe/Stockholm:20250320T100000
DTEND;TZID=Europe/Stockholm:20250320T130000
DTSTAMP:20260420T221155
CREATED:20250320T092107Z
LAST-MODIFIED:20250320T092107Z
UID:1533-1742464800-1742475600@bullaren.com
SUMMARY:Våffelcafé
DESCRIPTION:Kaffe och våfflor börjar vi åter servera från den 6 feb.\nÖppet torsdagar mellan kl. 10-13. Hantverkshuset Östad.\nCaféet stänger den 1 maj. \nVälkommen!
URL:https://bullaren.com/evenemang/vaffelcafe-15/
LOCATION:Hantverkshuset på Östad
END:VEVENT
BEGIN:VEVENT
DTSTART;TZID=Europe/Stockholm:20250313T100000
DTEND;TZID=Europe/Stockholm:20250313T130000
DTSTAMP:20260420T221155
CREATED:20250206T065536Z
LAST-MODIFIED:20250311T134845Z
UID:1472-1741860000-1741870800@bullaren.com
SUMMARY:Våffelcafé
DESCRIPTION:Kaffe och våfflor börjar vi åter servera från den 6 feb.\nÖppet torsdagar mellan kl. 10-13.\nCaféet stänger den 1 maj. \nVälkommen!
URL:https://bullaren.com/evenemang/vaffelcafe-13/
LOCATION:Hantverkshuset på Östad
END:VEVENT
BEGIN:VEVENT
DTSTART;TZID=Europe/Stockholm:20250311T180000
DTEND;TZID=Europe/Stockholm:20250311T210000
DTSTAMP:20260420T221155
CREATED:20250224T080811Z
LAST-MODIFIED:20250224T080811Z
UID:1525-1741716000-1741726800@bullaren.com
SUMMARY:Årsmöte Bullaregården
DESCRIPTION:
URL:https://bullaren.com/evenemang/arsmote-bullaregarden/
LOCATION:Bullaregården
END:VEVENT
BEGIN:VEVENT
DTSTART;TZID=Europe/Stockholm:20250310T130000
DTEND;TZID=Europe/Stockholm:20250310T150000
DTSTAMP:20260420T221155
CREATED:20250320T093541Z
LAST-MODIFIED:20250320T093541Z
UID:1558-1741611600-1741618800@bullaren.com
SUMMARY:Handarbetscafé
DESCRIPTION:Välkomna till Handarbetscafé\nHantverkshuset\, Östad\nMåndagar udda veckor\, kl 13-15\nStartar den 27 januari
URL:https://bullaren.com/evenemang/handarbetscafe-5/
LOCATION:Hantverkshuset på Östad
END:VEVENT
BEGIN:VEVENT
DTSTART;TZID=Europe/Stockholm:20250224T130000
DTEND;TZID=Europe/Stockholm:20250224T150000
DTSTAMP:20260420T221155
CREATED:20250320T093424Z
LAST-MODIFIED:20250320T093424Z
UID:1556-1740402000-1740409200@bullaren.com
SUMMARY:Handarbetscafé
DESCRIPTION:Välkomna till Handarbetscafé\nHantverkshuset\, Östad\nMåndagar udda veckor\, kl 13-15\nStartar den 27 januari
URL:https://bullaren.com/evenemang/handarbetscafe-4/
LOCATION:Hantverkshuset på Östad
END:VEVENT
BEGIN:VEVENT
DTSTART;TZID=Europe/Stockholm:20250210T130000
DTEND;TZID=Europe/Stockholm:20250210T150000
DTSTAMP:20260420T221155
CREATED:20250320T093337Z
LAST-MODIFIED:20250320T093337Z
UID:1554-1739192400-1739199600@bullaren.com
SUMMARY:Handarbetscafé
DESCRIPTION:Välkomna till Handarbetscafé\nHantverkshuset\, Östad\nMåndagar udda veckor\, kl 13-15\nStartar den 27 januari
URL:https://bullaren.com/evenemang/handarbetscafe-3/
LOCATION:Hantverkshuset på Östad
END:VEVENT
BEGIN:VEVENT
DTSTART;TZID=Europe/Stockholm:20250127T130000
DTEND;TZID=Europe/Stockholm:20250127T150000
DTSTAMP:20260420T221155
CREATED:20250320T093146Z
LAST-MODIFIED:20250320T093146Z
UID:1550-1737982800-1737990000@bullaren.com
SUMMARY:Handarbetscafé
DESCRIPTION:Välkomna till Handarbetscafé\nHantverkshuset\, Östad\nMåndagar udda veckor\, kl 13-15\nStartar den 27 januari
URL:https://bullaren.com/evenemang/handarbetscafe-2/
LOCATION:Hantverkshuset på Östad
END:VEVENT
BEGIN:VEVENT
DTSTART;TZID=Europe/Stockholm:20250104T183000
DTEND;TZID=Europe/Stockholm:20250105T010000
DTSTAMP:20260420T221155
CREATED:20241119T131234Z
LAST-MODIFIED:20241119T131234Z
UID:1521-1736015400-1736038800@bullaren.com
SUMMARY:Andersson & Högdahl
DESCRIPTION:Uppladdningsfest inför trettondehelgen!\n4 januari på Bullaregården \nInsläpp från kl. 18.30\nMeny för kvällen\nfläskytterfilé med potatisgratäng\,\nserveras. Kl. 19.00\n250:- inkl. mat\n150:- efterinsläpp \nNi som önskar mat\, sms eller ring\nDan 072 887 09 05\nFolke 070 158 66 89\nRosa 070 620 55 00
URL:https://bullaren.com/evenemang/andersson-hogdahl/
LOCATION:Bullaregården
END:VEVENT
BEGIN:VEVENT
DTSTART;TZID=Europe/Stockholm:20241201T100000
DTEND;TZID=Europe/Stockholm:20241201T140000
DTSTAMP:20260420T221155
CREATED:20241114T094915Z
LAST-MODIFIED:20241119T130420Z
UID:1511-1733047200-1733061600@bullaren.com
SUMMARY:Bullarens Julmarknad
DESCRIPTION:På Östad finns vi vid Hantverkshuset\nMarknadsstånd\, tunnbröd\, hantverk\, böcker\, korv med bröd\, kaffeservering\,\nBoksläpp! – Jan Nilsson släpper boken Spiksmeden. \nTomteparad för alla barn\, samling vid Hantverkshuset kl. 13.00\nÖstads Liv sponsrar Tomten. \nI Hembygdsmuseet bjuds på glögg och pepparkakor \nBullaregården\nMarknad och knallar med alla sorters varor.\nKnivar\, honung\, kransar\, lyktor\, ljus\, senap\, hemvävt\,\ngodis\, böcker\, glögg\, träslöjd och kakor.\nLotteri med juliga vinster kan du vinna.\nGröt med skinksmörgås i serveringen du också hinna. \nVill du inte mellan Östad och Bullaregården gå\,\nkan du åka häst och vagn och låta bilen stå. \nEn härlig marknad hoppas vi alla få.\nHjärtligt välkomna både stora och små.
URL:https://bullaren.com/evenemang/bullarens-julmarknad/
LOCATION:Bullaregården
END:VEVENT
BEGIN:VEVENT
DTSTART;TZID=Europe/Stockholm:20241121T080000
DTEND;TZID=Europe/Stockholm:20241121T170000
DTSTAMP:20260420T221155
CREATED:20240829T055507Z
LAST-MODIFIED:20240829T055507Z
UID:1470-1732176000-1732208400@bullaren.com
SUMMARY:Våffelcafé
DESCRIPTION:Kaffe och våfflor börjar vi åter servera från den 5 sept.\nÖppet torsdagar mellan kl. 10 och 13.\nCaféet stänger den 28 nov. \nVälkommen!
URL:https://bullaren.com/evenemang/vaffelcafe-12/
LOCATION:Hantverkshuset på Östad
END:VEVENT
BEGIN:VEVENT
DTSTART;TZID=Europe/Stockholm:20241120T180000
DTEND;TZID=Europe/Stockholm:20241120T200000
DTSTAMP:20260420T221155
CREATED:20240829T060120Z
LAST-MODIFIED:20240829T060120Z
UID:1481-1732125600-1732132800@bullaren.com
SUMMARY:Berättarkväll
DESCRIPTION:Berättarkvällar\nVi träffas på onsdagar kl. 18.00  i Hantverkshuset på Östad.\nKaffe serveras. \n2024-11-20  Viskväll med Svante Söder. ”Huvvebry” spelar och sjunger\ntonsatta dikter av Svante Söder. \nVälkomna!
URL:https://bullaren.com/evenemang/berattarkvall-4/
LOCATION:Hantverkshuset på Östad
END:VEVENT
BEGIN:VEVENT
DTSTART;TZID=Europe/Stockholm:20241114T100000
DTEND;TZID=Europe/Stockholm:20241114T130000
DTSTAMP:20260420T221155
CREATED:20240829T055641Z
LAST-MODIFIED:20240829T055723Z
UID:1474-1731578400-1731589200@bullaren.com
SUMMARY:Våffelcafé
DESCRIPTION:Kaffe och våfflor börjar vi åter servera från den 5 sept.\nÖppet torsdagar mellan kl. 10 och 13.\nCaféet stänger den 28 nov. \nVälkommen!
URL:https://bullaren.com/evenemang/vaffelcafe-14/
LOCATION:Hantverkshuset på Östad
END:VEVENT
BEGIN:VEVENT
DTSTART;TZID=Europe/Stockholm:20241107T100000
DTEND;TZID=Europe/Stockholm:20241107T130000
DTSTAMP:20260420T221155
CREATED:20240829T055433Z
LAST-MODIFIED:20240829T055433Z
UID:1468-1730973600-1730984400@bullaren.com
SUMMARY:Våffelcafé
DESCRIPTION:Kaffe och våfflor börjar vi åter servera från den 5 sept.\nÖppet torsdagar mellan kl. 10 och 13.\nCaféet stänger den 28 nov. \nVälkommen!
URL:https://bullaren.com/evenemang/vaffelcafe-11/
LOCATION:Hantverkshuset på Östad
END:VEVENT
BEGIN:VEVENT
DTSTART;TZID=Europe/Stockholm:20241106T180000
DTEND;TZID=Europe/Stockholm:20241106T210000
DTSTAMP:20260420T221155
CREATED:20240829T060743Z
LAST-MODIFIED:20240829T060743Z
UID:1485-1730916000-1730926800@bullaren.com
SUMMARY:Ukulelekonsert
DESCRIPTION:Konsert med\nBullarens Ukuleleensemble\nI Bullaregården\nonsdag 6 november kl. 18.00 \nHöstmörkret är nu på riktigt här\ndå är det dags för en ukkekonsert\nSom vanligt får Inger i köket regera\ndet blir en soppa som hon kan servera\nihop med kaga\, kaffe o doppa\ndet blir en kväll som inte kan floppa \nLotteri med fina vinster.\n150 kr/pers \nAnmälan: Rita 070-288 10 84\nSista anmälningsdag 3 nov \nHjärtligt välkomna
URL:https://bullaren.com/evenemang/ukulelekonsert-2/
LOCATION:Bullaregården
ATTACH;FMTTYPE=image/png:https://bullaren.com/wp-content/uploads/2024/01/Ostad.png
END:VEVENT
BEGIN:VEVENT
DTSTART;TZID=Europe/Stockholm:20241102T070000
DTEND;TZID=Europe/Stockholm:20241102T170000
DTSTAMP:20260420T221155
CREATED:20240831T103449Z
LAST-MODIFIED:20240831T103449Z
UID:1492-1730530800-1730566800@bullaren.com
SUMMARY:Bullarens Älgskötselområde startar älgjakten
DESCRIPTION:Detta år startar älgjakten inom Bullarens Älgskötselområde först den 2 november. \nÄlgskötselområdet består av 16 200 hektar.
URL:https://bullaren.com/evenemang/bullarens-algskotselomrade-startar-algjakten/
END:VEVENT
BEGIN:VEVENT
DTSTART;TZID=Europe/Stockholm:20241031T100000
DTEND;TZID=Europe/Stockholm:20241031T130000
DTSTAMP:20260420T221155
CREATED:20240829T055356Z
LAST-MODIFIED:20240829T055356Z
UID:1466-1730368800-1730379600@bullaren.com
SUMMARY:Våffelcafé
DESCRIPTION:Kaffe och våfflor börjar vi åter servera från den 5 sept.\nÖppet torsdagar mellan kl. 10 och 13.\nCaféet stänger den 28 nov. \nVälkommen!
URL:https://bullaren.com/evenemang/vaffelcafe-10/
LOCATION:Hantverkshuset på Östad
END:VEVENT
BEGIN:VEVENT
DTSTART;TZID=Europe/Stockholm:20241026T100000
DTEND;TZID=Europe/Stockholm:20241026T120000
DTSTAMP:20260420T221155
CREATED:20240831T102617Z
LAST-MODIFIED:20241015T063234Z
UID:1488-1729936800-1729944000@bullaren.com
SUMMARY:Skogsträff på Tegen - tema markberedning
DESCRIPTION:Bullarens Skogsvårdsförening ordnar en skogsträff med fokus på markberedning \n 
URL:https://bullaren.com/evenemang/skogsskotseldag-pa-tegen/
END:VEVENT
BEGIN:VEVENT
DTSTART;TZID=Europe/Stockholm:20241024T100000
DTEND;TZID=Europe/Stockholm:20241024T130000
DTSTAMP:20260420T221155
CREATED:20240829T055317Z
LAST-MODIFIED:20240829T055317Z
UID:1464-1729764000-1729774800@bullaren.com
SUMMARY:Våffelcafé
DESCRIPTION:Kaffe och våfflor börjar vi åter servera från den 5 sept.\nÖppet torsdagar mellan kl. 10 och 13.\nCaféet stänger den 28 nov. \nVälkommen!
URL:https://bullaren.com/evenemang/vaffelcafe-9/
LOCATION:Hantverkshuset på Östad
END:VEVENT
BEGIN:VEVENT
DTSTART;TZID=Europe/Stockholm:20241023T180000
DTEND;TZID=Europe/Stockholm:20241023T200000
DTSTAMP:20260420T221155
CREATED:20240829T055958Z
LAST-MODIFIED:20241008T054900Z
UID:1478-1729706400-1729713600@bullaren.com
SUMMARY:Berättarkväll
DESCRIPTION:Berättarkvällar\nVi träffas på onsdagar kl. 18.00  i Hantverkshuset på Östad.\nKaffe serveras. \n2024-10-23\nFilmvisning. Gjord av Gun Wikström på 90-talet som research\ntill boken Gränslös vänskap. Medverkande Harald och Gertrud Odehed\, Freij\noch Borghild Klöver\, Anna Wessberg\, Birger Karlsson (känd som Räve-Birger)\nm. fl.
URL:https://bullaren.com/evenemang/berattarkvall-3/
LOCATION:Hantverkshuset på Östad
END:VEVENT
BEGIN:VEVENT
DTSTART;TZID=Europe/Stockholm:20241017T100000
DTEND;TZID=Europe/Stockholm:20241017T130000
DTSTAMP:20260420T221155
CREATED:20240829T055246Z
LAST-MODIFIED:20240829T055246Z
UID:1462-1729159200-1729170000@bullaren.com
SUMMARY:Våffelcafé
DESCRIPTION:Kaffe och våfflor börjar vi åter servera från den 5 sept.\nÖppet torsdagar mellan kl. 10 och 13.\nCaféet stänger den 28 nov. \nVälkommen!
URL:https://bullaren.com/evenemang/vaffelcafe-8/
LOCATION:Hantverkshuset på Östad
END:VEVENT
BEGIN:VEVENT
DTSTART;TZID=Europe/Stockholm:20241012T180000
DTEND;TZID=Europe/Stockholm:20241012T220000
DTSTAMP:20260420T221155
CREATED:20240829T060311Z
LAST-MODIFIED:20240924T114007Z
UID:1483-1728756000-1728770400@bullaren.com
SUMMARY:Bullarens nationaldag
DESCRIPTION:Bullarens nationaldag\nlördagen den 12 okt\nfiras med Before & After Älg \nKl. 18.30-22 är både jägare och icke jägare hjärtligt välkomna att fira med oss. \nEntré 200 kr\nBarn under 15 år gratis. \nEn rejäl tallrik med mustig höstsoppa å kaga\, kaffe å älgbakelse ingår i entrén.\nÖppen bar! \nLotterier med fina vinster. \nBenny Borg står för underhållningen.\n \nHjärtligt välkomna!
URL:https://bullaren.com/evenemang/bullarens-nationaldag/
LOCATION:Bullaregården
ATTACH;FMTTYPE=image/png:https://bullaren.com/wp-content/uploads/2024/08/Annons-2024.png
END:VEVENT
BEGIN:VEVENT
DTSTART;TZID=Europe/Stockholm:20241010T100000
DTEND;TZID=Europe/Stockholm:20241010T130000
DTSTAMP:20260420T221155
CREATED:20240829T055214Z
LAST-MODIFIED:20240829T055214Z
UID:1460-1728554400-1728565200@bullaren.com
SUMMARY:Våffelcafé
DESCRIPTION:Kaffe och våfflor börjar vi åter servera från den 5 sept.\nÖppet torsdagar mellan kl. 10 och 13.\nCaféet stänger den 28 nov. \nVälkommen!
URL:https://bullaren.com/evenemang/vaffelcafe-7/
LOCATION:Hantverkshuset på Östad
END:VEVENT
BEGIN:VEVENT
DTSTART;TZID=Europe/Stockholm:20241006T100000
DTEND;TZID=Europe/Stockholm:20241006T130000
DTSTAMP:20260420T221155
CREATED:20240831T102854Z
LAST-MODIFIED:20241006T060102Z
UID:1490-1728208800-1728219600@bullaren.com
SUMMARY:Poängpromenad med BGoIF och Skogsvårdsföreningen på Flötemarken. Start vid Stampebron mellan kl 10-11.
DESCRIPTION:
URL:https://bullaren.com/evenemang/poangpromenad-med-bgoif-och-skogsvardsforeningen-pa-flotemarken/
END:VEVENT
BEGIN:VEVENT
DTSTART;TZID=Europe/Stockholm:20241003T100000
DTEND;TZID=Europe/Stockholm:20241003T130000
DTSTAMP:20260420T221155
CREATED:20240829T055141Z
LAST-MODIFIED:20240829T055141Z
UID:1458-1727949600-1727960400@bullaren.com
SUMMARY:Våffelcafé
DESCRIPTION:Kaffe och våfflor börjar vi åter servera från den 5 sept.\nÖppet torsdagar mellan kl. 10 och 13.\nCaféet stänger den 28 nov. \nVälkommen!
URL:https://bullaren.com/evenemang/vaffelcafe-6/
LOCATION:Hantverkshuset på Östad
END:VEVENT
BEGIN:VEVENT
DTSTART;TZID=Europe/Stockholm:20240928T100000
DTEND;TZID=Europe/Stockholm:20240928T140000
DTSTAMP:20260420T221155
CREATED:20240903T103213Z
LAST-MODIFIED:20240916T113406Z
UID:1494-1727517600-1727532000@bullaren.com
SUMMARY:Höstloppis
DESCRIPTION:Välkommen på stor loppis i Bullaregården\nlördag 28 sept. (inomhus)\nkl. 10.00- 14.00\nHär kan man hitta något för alla!\nServeringen är öppen. \nVill du boka bord?\nRing Rita tel. 070 288 10 84\,\nFörst till kvarn! \nNYHET!\nVi kör samtidigt en klädbytardag! \nMax 10 plagg/pers = 10 kuponger\nInlämning sker tors 26 sept\nkl. 18-19\nEndast vuxenkläder.\nAlla plagg ska vara rena och hela.\nInlämning även lördag kl. 10-11. Byte mellan kl. 12-14. \nMer info\, Linda 070 229 38 28
URL:https://bullaren.com/evenemang/hostloppis/
LOCATION:Bullaregården
ATTACH;FMTTYPE=image/png:https://bullaren.com/wp-content/uploads/2024/09/Hostloppis-bild.png
END:VEVENT
BEGIN:VEVENT
DTSTART;TZID=Europe/Stockholm:20240926T100000
DTEND;TZID=Europe/Stockholm:20240926T130000
DTSTAMP:20260420T221155
CREATED:20240829T055101Z
LAST-MODIFIED:20240829T055101Z
UID:1456-1727344800-1727355600@bullaren.com
SUMMARY:Våffelcafé
DESCRIPTION:Kaffe och våfflor börjar vi åter servera från den 5 sept.\nÖppet torsdagar mellan kl. 10 och 13.\nCaféet stänger den 28 nov. \nVälkommen!
URL:https://bullaren.com/evenemang/vaffelcafe-5/
LOCATION:Hantverkshuset på Östad
END:VEVENT
BEGIN:VEVENT
DTSTART;TZID=Europe/Stockholm:20240920T190000
DTEND;TZID=Europe/Stockholm:20240920T233000
DTSTAMP:20260420T221155
CREATED:20240826T100212Z
LAST-MODIFIED:20240826T100212Z
UID:1446-1726858800-1726875000@bullaren.com
SUMMARY:After Work med Alfheim
DESCRIPTION:Välkomna på After Work med ALFHEIM \nFredag 20 september\nKl. 19.00\npå Bullaregården \nPå menyn står irländsk köttgryta\nÖppen bar \nEntré 150 kr\nInkl. mat 250 kr \nAnmälan via sms\, ange om mat önskas.\nDan 0728 87 09 05\nFolke 0701 58 66 89 \nsenast 16 sept \nHjärtligt välkomna! \n 
URL:https://bullaren.com/evenemang/after-work-med-alfheim/
LOCATION:Bullaregården
ATTACH;FMTTYPE=image/jpeg:https://bullaren.com/wp-content/uploads/2024/08/Namnlos.jpg
END:VEVENT
BEGIN:VEVENT
DTSTART;TZID=Europe/Stockholm:20240919T100000
DTEND;TZID=Europe/Stockholm:20240919T130000
DTSTAMP:20260420T221155
CREATED:20240829T055008Z
LAST-MODIFIED:20240829T055008Z
UID:1454-1726740000-1726750800@bullaren.com
SUMMARY:Våffelcafé
DESCRIPTION:Kaffe och våfflor börjar vi åter servera från den 5 sept.\nÖppet torsdagar mellan kl. 10 och 13.\nCaféet stänger den 28 nov. \nVälkommen!
URL:https://bullaren.com/evenemang/vaffelcafe-4/
LOCATION:Hantverkshuset på Östad
END:VEVENT
END:VCALENDAR