BEGIN:VCALENDAR
VERSION:2.0
PRODID:-//Bullaren.com - ECPv6.15.20//NONSGML v1.0//EN
CALSCALE:GREGORIAN
METHOD:PUBLISH
X-ORIGINAL-URL:https://bullaren.com
X-WR-CALDESC:Händelser för Bullaren.com
REFRESH-INTERVAL;VALUE=DURATION:PT1H
X-Robots-Tag:noindex
X-PUBLISHED-TTL:PT1H
BEGIN:VTIMEZONE
TZID:Europe/Stockholm
BEGIN:DAYLIGHT
TZOFFSETFROM:+0100
TZOFFSETTO:+0200
TZNAME:CEST
DTSTART:20240331T010000
END:DAYLIGHT
BEGIN:STANDARD
TZOFFSETFROM:+0200
TZOFFSETTO:+0100
TZNAME:CET
DTSTART:20241027T010000
END:STANDARD
BEGIN:DAYLIGHT
TZOFFSETFROM:+0100
TZOFFSETTO:+0200
TZNAME:CEST
DTSTART:20250330T010000
END:DAYLIGHT
BEGIN:STANDARD
TZOFFSETFROM:+0200
TZOFFSETTO:+0100
TZNAME:CET
DTSTART:20251026T010000
END:STANDARD
BEGIN:DAYLIGHT
TZOFFSETFROM:+0100
TZOFFSETTO:+0200
TZNAME:CEST
DTSTART:20260329T010000
END:DAYLIGHT
BEGIN:STANDARD
TZOFFSETFROM:+0200
TZOFFSETTO:+0100
TZNAME:CET
DTSTART:20261025T010000
END:STANDARD
BEGIN:DAYLIGHT
TZOFFSETFROM:+0100
TZOFFSETTO:+0200
TZNAME:CEST
DTSTART:20270328T010000
END:DAYLIGHT
BEGIN:STANDARD
TZOFFSETFROM:+0200
TZOFFSETTO:+0100
TZNAME:CET
DTSTART:20271031T010000
END:STANDARD
END:VTIMEZONE
BEGIN:VEVENT
DTSTART;TZID=Europe/Stockholm:20260324T183000
DTEND;TZID=Europe/Stockholm:20260324T210000
DTSTAMP:20260420T181343
CREATED:20260128T182102Z
LAST-MODIFIED:20260128T182304Z
UID:2029-1774377000-1774386000@bullaren.com
SUMMARY:Årsmöte Bullarens Skogsvårdsförening\, Jills Diner
DESCRIPTION:Välkomna på årsmöte för Bullarens Skogsvårdsförening på Jills Diner den 24 mars kl 18.30 \nVi har som vanligt ett fint Lotteri med många priser. \nFralla och kaffe serveras!
URL:https://bullaren.com/evenemang/arsmote-bullarens-skogsvardsforening/
LOCATION:Jack´s Place\, Bullarebygdens Familje camping\, Vassbotten
END:VEVENT
BEGIN:VEVENT
DTSTART;TZID=Europe/Stockholm:20260324T180000
DTEND;TZID=Europe/Stockholm:20260324T210000
DTSTAMP:20260420T181343
CREATED:20260303T084922Z
LAST-MODIFIED:20260303T084922Z
UID:2039-1774375200-1774386000@bullaren.com
SUMMARY:Årsmöte Bullaregården
DESCRIPTION:
URL:https://bullaren.com/evenemang/arsmote-bullaregarden-2/
LOCATION:Bullaregården
END:VEVENT
BEGIN:VEVENT
DTSTART;TZID=Europe/Stockholm:20260321T180000
DTEND;TZID=Europe/Stockholm:20260321T180000
DTSTAMP:20260420T181343
CREATED:20260303T085152Z
LAST-MODIFIED:20260303T085502Z
UID:2042-1774116000-1774116000@bullaren.com
SUMMARY:Westby Blues Band
DESCRIPTION:Westby Blues Band\nBullaregården\nLördag 21 mars kl. 18.00\nMiddag med dessert\n350 kr inkl mat\n175 kr endast entré\nLaddad bar! \nAnmälan senast 15 mars\nFolke 070 158 66 89\nDan 072 887 09 05 \nHjärtligt välkomna!
URL:https://bullaren.com/evenemang/westby-blues-band/
LOCATION:Bullaregården
END:VEVENT
BEGIN:VEVENT
DTSTART;TZID=Europe/Stockholm:20260103T183000
DTEND;TZID=Europe/Stockholm:20260104T010000
DTSTAMP:20260420T181343
CREATED:20251204T170707Z
LAST-MODIFIED:20251204T170707Z
UID:2025-1767465000-1767488400@bullaren.com
SUMMARY:Andersson & Högdahl med CRUNCH
DESCRIPTION:Favorit i repris!\nAndersson & Högdahl med CRUNCH\n3 januari på Bullaregården \nInsläpp från kl. 18.30\nMeny för kvällen\nFisk & skaldjursgratäng med sallad\, serveras. Kl. 19.00\n350:- inkl. mat\n175:- efterinsläpp \nNi som önskar mat\, sms eller ring\nDan 072 887 09 05\nFolke 070 158 66 89\nRosa 070 620 55 00 \nHjärtligt välkomna! \n \n  \n 
URL:https://bullaren.com/evenemang/andersson-hogdahl-med-crunch/
LOCATION:Bullaregården
END:VEVENT
BEGIN:VEVENT
DTSTART;TZID=Europe/Stockholm:20251217T183000
DTEND;TZID=Europe/Stockholm:20251217T210000
DTSTAMP:20260420T181343
CREATED:20251124T122950Z
LAST-MODIFIED:20251125T070422Z
UID:2017-1765996200-1766005200@bullaren.com
SUMMARY:Julkonsert
DESCRIPTION:Julkonsert på Bullaregården\nOnsdag 17 dec\, kl. 18.30\nEntré 180 kr\, inkl. kaffe och lussebulle \nMedverkande:\nAnders Bullarsjö\, bas\nAmanda Torgare\, sång\nPer Torgare\, Sång\nMattias Norrman\, Sång\nLars-Erik Hansson\, trummor\nIngemar Emanuelsson\, Piano och sång\nIngemar Christensson\, Gitarr och sång\nIngemar Olsson\, Dragspel och sång \n  \nVälkomna!
URL:https://bullaren.com/evenemang/julkonsert/
LOCATION:Bullaregården
END:VEVENT
BEGIN:VEVENT
DTSTART;TZID=Europe/Stockholm:20251130T100000
DTEND;TZID=Europe/Stockholm:20251130T140000
DTSTAMP:20260420T181343
CREATED:20251103T130910Z
LAST-MODIFIED:20251120T080416Z
UID:2008-1764496800-1764511200@bullaren.com
SUMMARY:Bullarens Julmarknad
DESCRIPTION:Bullarens Julmarknad \nSöndag 30 nov.\nKl. 10.00-14.00 \nPå Östad vid Hantverkshuset och hembygdsmuseet finns:\nMarknadsstånd\, tunnbröd\, korv m bröd\, kaffeservering. \nBarnens Tomteparad: Samling vid Hantverkshuset kl. 13.00 \nI Bullaregården\nKnallar av många olika slag som visar och säljer sina alster.\nGröt och skinksmörgås i serveringen. \nBiljettsläpp till Bullingen Spårar ur 2026. Kl. 10-13.00\n\nDe ska väre välkomne te en hemmål da i Bullarn!
URL:https://bullaren.com/evenemang/bullarens-julmarknad-2/
LOCATION:Bullaregården
END:VEVENT
BEGIN:VEVENT
DTSTART;TZID=Europe/Stockholm:20251130T100000
DTEND;TZID=Europe/Stockholm:20251130T130000
DTSTAMP:20260420T181343
CREATED:20251120T080712Z
LAST-MODIFIED:20251120T080712Z
UID:2014-1764496800-1764507600@bullaren.com
SUMMARY:Biljettsläpp - Bullingen Spårar ur 2026
DESCRIPTION:Biljettsläpp – Bullingen Spårar ur 2026\nBullaregården.\nKl. 10-13.00
URL:https://bullaren.com/evenemang/biljettslapp-bullingen-sparar-ur-2026/
LOCATION:Bullaregården
END:VEVENT
BEGIN:VEVENT
DTSTART;TZID=Europe/Stockholm:20251119T180000
DTEND;TZID=Europe/Stockholm:20251119T190000
DTSTAMP:20260420T181343
CREATED:20250911T192031Z
LAST-MODIFIED:20250911T192031Z
UID:1971-1763575200-1763578800@bullaren.com
SUMMARY:Berättarkväll i Hantverkshuset
DESCRIPTION:Till våran tredje berättarkväll kommer en favorit tillbaka. Gun Jarnedals skrönor och berättelser om våra traditioner gav mersmak så nu vill vi höra mer…
URL:https://bullaren.com/evenemang/berattarkvall-i-hantverkshuset-3/
LOCATION:Hantverkshuset på Östad
END:VEVENT
BEGIN:VEVENT
DTSTART;TZID=Europe/Stockholm:20251114T183000
DTEND;TZID=Europe/Stockholm:20251115T000000
DTSTAMP:20260420T181343
CREATED:20251007T100227Z
LAST-MODIFIED:20251007T100227Z
UID:2000-1763145000-1763164800@bullaren.com
SUMMARY:Musik och pubkväll med Revyorkestern och gästartister
DESCRIPTION:Revyorkestern bjuder in till en lättsam kväll med en musikalisk mix av blågula toner \nBullaregården\nFredag 14 nov\nKl. 18.30-24.00 \nEntré inkl. mat – 350 kr\nEfterinsläpp fr kl. 21.00 -175 kr \nAnmälan senast 9 nov\nRita 070-288 10 84 \nHjärtligt välkomna!
URL:https://bullaren.com/evenemang/musik-och-pubkvall-med-revyorkestern-och-gastartister/
LOCATION:Bullaregården
END:VEVENT
BEGIN:VEVENT
DTSTART;TZID=Europe/Stockholm:20251114T183000
DTEND;TZID=Europe/Stockholm:20251114T183000
DTSTAMP:20260420T181343
CREATED:20251002T140559Z
LAST-MODIFIED:20251002T143703Z
UID:1990-1763145000-1763145000@bullaren.com
SUMMARY:Pubkväll med Revyorkestern och gästartister
DESCRIPTION:Mer information kommer senare i oktober.
URL:https://bullaren.com/evenemang/pubkvall-med-revyorkestern-med-gastartister/
LOCATION:Bullaregården
END:VEVENT
BEGIN:VEVENT
DTSTART;TZID=Europe/Stockholm:20251105T180000
DTEND;TZID=Europe/Stockholm:20251105T210000
DTSTAMP:20260420T181343
CREATED:20250904T113439Z
LAST-MODIFIED:20250925T080043Z
UID:1964-1762365600-1762376400@bullaren.com
SUMMARY:Höstkonsert med Bullarens Ukuleleensemble
DESCRIPTION:Höstkonsert med Bullarens Ukuleleensemble\nI Bullaregården\nonsdag 5 november kl. 18.00 \n\n\nSoppa\, bröd\, kaffe o kaka ingår.\n150 kr/pers \n\n\nLotteri med fina vinster. \nSång\, musik och mat i magen\nDet är en bra avslutning på dagen \n\n\nAnmälan: Rita 070-288 10 84 \n\n\nSista anmälningsdag 2 nov
URL:https://bullaren.com/evenemang/hostkonsert-med-bullarens-ukuleleensemble/
LOCATION:Bullaregården
END:VEVENT
BEGIN:VEVENT
DTSTART;TZID=Europe/Stockholm:20251028T183000
DTEND;TZID=Europe/Stockholm:20251028T210000
DTSTAMP:20260420T181343
CREATED:20250925T075314Z
LAST-MODIFIED:20251002T084206Z
UID:1981-1761676200-1761685200@bullaren.com
SUMMARY:Författarkväll med Magnus Danielsson
DESCRIPTION:Välkommen till författarkväll med Magnus Danielson i Bullaregården! \nMagnus Danielson är uppvuxen i Falköping men är sedan många år bosatt i Kämpersvik. Hans böcker handlar om vanliga människor som hamnar i ovanliga situationer. Han vill hellre få sina läsare att skratta än att bli skrämda\, men sår gärna ett frö till eftertanke då det finns bitar av allvar i hans böcker. Till exempel behandlas Berlinmuren\, Sovjetunionens sammanbrott\, Västafrikas elförsörjning och nu senast gängkriminalitet och covidpandemin. Inget av detta kan väl göra att man gapskrattar? \nI augusti kom Magnus femte roman\, Covid minus nitton\, vilken enligt förlaget är en halsbrytande feelgoodthriller där ingen riktigt är den man tror\, där drönare kan vara dödligare än revolvrar\, och en EPA-traktor kan spela en avgörande roll i kampen mot brottsligheten. \nI boken får vi träffa Sara som efter att ha vittnat mot ett kriminellt motorcykelgäng jagas hon genom Västra Götaland för att till slut hamna i Bullaren. Hon får hjälp av en pensionerad lärarinna och en sovjetisk ex-soldat. Lägg till en opålitlig polis\, en försvunnen västafrikansk entreprenör och en krisande filminspelning om sjöodjuret i Bullaresjön\, så är cirkusen komplett. \nUnder kvällen kommer Magnus berätta om vanliga människor i ovanliga situationer och lite extra om Covid minus nitton. \nTisdag 28 oktober kl. 18.30 \nPlats: Bullaregården.
URL:https://bullaren.com/evenemang/forfattarkvall-med-magnus-danielsson/
LOCATION:Bullaregården
END:VEVENT
BEGIN:VEVENT
DTSTART;TZID=Europe/Stockholm:20251022T180000
DTEND;TZID=Europe/Stockholm:20251022T190000
DTSTAMP:20260420T181343
CREATED:20250911T191404Z
LAST-MODIFIED:20250911T191404Z
UID:1969-1761156000-1761159600@bullaren.com
SUMMARY:Berättarkväll i Hantverkshuset
DESCRIPTION:Höstens andra berättarkväll ger oss en historisk tillbakablick om livet och händelser kring Älgafallet. Björn Ståhl berättar.
URL:https://bullaren.com/evenemang/berattarkvall-i-hantverkshuset-2/
LOCATION:Hantverkshuset på Östad
END:VEVENT
BEGIN:VEVENT
DTSTART;TZID=Europe/Stockholm:20251012T100000
DTEND;TZID=Europe/Stockholm:20251012T120000
DTSTAMP:20260420T181343
CREATED:20251008T080450Z
LAST-MODIFIED:20251008T080541Z
UID:2003-1760263200-1760270400@bullaren.com
SUMMARY:Skogstipspromenad på Tegen
DESCRIPTION:
URL:https://bullaren.com/evenemang/skogspromenad-pa-tegen/
LOCATION:Skidstugan\, Tegen
END:VEVENT
BEGIN:VEVENT
DTSTART;TZID=Europe/Stockholm:20251011T183000
DTEND;TZID=Europe/Stockholm:20251011T220000
DTSTAMP:20260420T181343
CREATED:20250925T075007Z
LAST-MODIFIED:20250925T075917Z
UID:1978-1760207400-1760220000@bullaren.com
SUMMARY:Before & After Älg
DESCRIPTION:
URL:https://bullaren.com/evenemang/before-after-alg/
LOCATION:Bullaregården
END:VEVENT
BEGIN:VEVENT
DTSTART;TZID=Europe/Stockholm:20250924T180000
DTEND;TZID=Europe/Stockholm:20250924T190000
DTSTAMP:20260420T181343
CREATED:20250911T190426Z
LAST-MODIFIED:20250911T190426Z
UID:1967-1758736800-1758740400@bullaren.com
SUMMARY:Berättarkväll i Hantverkshuset
DESCRIPTION:Janne Nilsson kommer och berättar om båttrafiken på Bullaresjön under 1900-talet.
URL:https://bullaren.com/evenemang/berattarkvall-i-hantverkshuset/
LOCATION:Hantverkshuset på Östad
END:VEVENT
BEGIN:VEVENT
DTSTART;TZID=Europe/Stockholm:20250921T170000
DTEND;TZID=Europe/Stockholm:20250921T190000
DTSTAMP:20260420T181343
CREATED:20250826T115202Z
LAST-MODIFIED:20250826T115737Z
UID:1953-1758474000-1758481200@bullaren.com
SUMMARY:Å Guschelöv för Gustav
DESCRIPTION:Å Guschelöv för Gustav \nTroll Skogsrå och dans bort i vägen. Målande ord och blå toner.\nStrunt är strunt och rosor är rosor.\nStrömt är strömt och dumt folk är… dumt folk. \nMedverkande\nLena Sörqvist reciterar ur Gustaf Frödings diktskatt.\nTomas Ferm framför egna tonsättningar av Frödings dikter i bluestappning. \nPå Bullaregården söndag 21 september\, kl. 17.00\nEntré 100 kr inkl. fika. \nHjärtligt välkomna! \n 
URL:https://bullaren.com/evenemang/a-guschelov-for-gustav/
LOCATION:Bullaregården
END:VEVENT
BEGIN:VEVENT
DTSTART;TZID=Europe/Stockholm:20250917T183000
DTEND;TZID=Europe/Stockholm:20250917T210000
DTSTAMP:20260420T181343
CREATED:20250831T091651Z
LAST-MODIFIED:20250831T093008Z
UID:1956-1758133800-1758142800@bullaren.com
SUMMARY:Peter cyklar mot cancer
DESCRIPTION:Peter och Carina Karnström berättar och visar bilder på färden från Riksgränsen hem till Bullaren. \nBullaregården onsdag 17 september\, kl. 18.30\nKaffeservering \nHjärtligt välkomna!
URL:https://bullaren.com/evenemang/peter-cyklar-mot-cancer/
LOCATION:Bullaregården
END:VEVENT
BEGIN:VEVENT
DTSTART;TZID=Europe/Stockholm:20250913T100000
DTEND;TZID=Europe/Stockholm:20250913T140000
DTSTAMP:20260420T181343
CREATED:20250819T103624Z
LAST-MODIFIED:20250819T103632Z
UID:1946-1757757600-1757772000@bullaren.com
SUMMARY:Loppis i Bullaregården
DESCRIPTION:Lördag 13 sept\, kl. 10-14.00\nAnmälan Rita 070 288 10 84 \n 
URL:https://bullaren.com/evenemang/loppis-i-bullaregarden/
LOCATION:Bullaregården
END:VEVENT
BEGIN:VEVENT
DTSTART;TZID=Europe/Stockholm:20250911T100000
DTEND;TZID=Europe/Stockholm:20250911T130000
DTSTAMP:20260420T181343
CREATED:20250902T171220Z
LAST-MODIFIED:20250902T171220Z
UID:1962-1757584800-1757595600@bullaren.com
SUMMARY:Våffelcafèet i Hantverkshuset
DESCRIPTION:Premiär torsdag 11 september 10-13. \nDärefter är det öppet varje torsdag 10-13 fram till 27 november.
URL:https://bullaren.com/evenemang/vaffelcafeet-i-hantverkshuset/
END:VEVENT
BEGIN:VEVENT
DTSTART;TZID=Europe/Stockholm:20250908T130000
DTEND;TZID=Europe/Stockholm:20250908T150000
DTSTAMP:20260420T181343
CREATED:20250902T170732Z
LAST-MODIFIED:20250902T170732Z
UID:1960-1757336400-1757343600@bullaren.com
SUMMARY:Inbjudan till Hantverkscafé i Hantverkshuset på Östad
DESCRIPTION:Den 8 sept 13-15 startar höstens hantverkscafé i Hantverkshuset. Därefter är det öppet alla måndagar ojämna veckor hela hösten-
URL:https://bullaren.com/evenemang/inbjudan-till-hantverkscafe-i-hantverkshuset-pa-ostad/
END:VEVENT
BEGIN:VEVENT
DTSTART;TZID=Europe/Stockholm:20250831T110000
DTEND;TZID=Europe/Stockholm:20250831T160000
DTSTAMP:20260420T181343
CREATED:20250630T120933Z
LAST-MODIFIED:20250812T060847Z
UID:1810-1756638000-1756656000@bullaren.com
SUMMARY:Familjedag
DESCRIPTION:
URL:https://bullaren.com/evenemang/familjedag/
LOCATION:Bullaregården
END:VEVENT
BEGIN:VEVENT
DTSTART;TZID=Europe/Stockholm:20250817T160000
DTEND;TZID=Europe/Stockholm:20250817T180000
DTSTAMP:20260420T181343
CREATED:20250808T140306Z
LAST-MODIFIED:20250808T141226Z
UID:1914-1755446400-1755453600@bullaren.com
SUMMARY:Bullarens älgskötselområde har årsmöte.
DESCRIPTION:Alla jaktledare har blivit informerade om resultat av drönarinventeringen vid ett möte i början av maj. Det var väldigt olika uppfattningar om resultatet av den\,\nDärför ber jag er jaktledare att prata ihop er med respektive lag så att alla i laget är överens så gott det går. // \nStyrelsen
URL:https://bullaren.com/evenemang/bullarens-algskotselomrade-har-arsmote/
LOCATION:Bullaregården
END:VEVENT
BEGIN:VEVENT
DTSTART;TZID=Europe/Stockholm:20250719T160000
DTEND;TZID=Europe/Stockholm:20250719T220000
DTSTAMP:20260420T181343
CREATED:20250605T135631Z
LAST-MODIFIED:20250605T135631Z
UID:1686-1752940800-1752962400@bullaren.com
SUMMARY:Traktorslalom med kärra
DESCRIPTION:FÖRSÄLJNING AV\nMAT OCH DRICKA \nANMÄLAN OCH INFO\,\nKONTAKTA FRANK PÅ NUMMER 0706854043
URL:https://bullaren.com/evenemang/traktorslalom-med-karra-2/
LOCATION:Älgeland\, Högarna\, Bullaren\, 45751\, Sverige
END:VEVENT
BEGIN:VEVENT
DTSTART;TZID=Europe/Stockholm:20250703T180000
DTEND;TZID=Europe/Stockholm:20250703T200000
DTSTAMP:20260420T181343
CREATED:20250630T120810Z
LAST-MODIFIED:20250630T120810Z
UID:1807-1751565600-1751572800@bullaren.com
SUMMARY:Cirkus
DESCRIPTION:
URL:https://bullaren.com/evenemang/cirkus/
LOCATION:Bullaregården
END:VEVENT
BEGIN:VEVENT
DTSTART;TZID=Europe/Stockholm:20250620T143000
DTEND;TZID=Europe/Stockholm:20250620T170000
DTSTAMP:20260420T181343
CREATED:20250611T185326Z
LAST-MODIFIED:20250611T185350Z
UID:1694-1750429800-1750438800@bullaren.com
SUMMARY:Midsommarfirande på Östad
DESCRIPTION:Midsommarafton 20/6 anordnar Hembygdsföreningen traditionsenligt midsommarfirande på Östad med musik\, dans och lekar.
URL:https://bullaren.com/evenemang/midsommarfirande-pa-ostad/
LOCATION:Museet på Östad\, Östad\, Bullaren\, 457 51\, Sweden
END:VEVENT
BEGIN:VEVENT
DTSTART;TZID=Europe/Stockholm:20250606T180000
DTEND;TZID=Europe/Stockholm:20250608T170000
DTSTAMP:20260420T181343
CREATED:20250520T172340Z
LAST-MODIFIED:20250520T172358Z
UID:1683-1749232800-1749402000@bullaren.com
SUMMARY:Cars on The Farm
DESCRIPTION:
URL:https://bullaren.com/evenemang/cars-on-the-farm/
LOCATION:Gribsröd Gård\, Norway
END:VEVENT
BEGIN:VEVENT
DTSTART;TZID=Europe/Stockholm:20250531T180000
DTEND;TZID=Europe/Stockholm:20250531T180000
DTSTAMP:20260420T181343
CREATED:20250519T093539Z
LAST-MODIFIED:20250519T094054Z
UID:1676-1748714400-1748714400@bullaren.com
SUMMARY:Logdans på Farmen
DESCRIPTION:Välkomna på logdans på Gribsröd Gård\nLördag 31 maj\, från kl. 18.00 \nInträde\, 200 kr\, betalas vid dörren. Vipps eller kontant.
URL:https://bullaren.com/evenemang/logdans-pa-farmen/
LOCATION:Gribsröd Gård\, Norway
END:VEVENT
BEGIN:VEVENT
DTSTART;TZID=Europe/Stockholm:20250503T100000
DTEND;TZID=Europe/Stockholm:20250503T160000
DTSTAMP:20260420T181343
CREATED:20250320T094128Z
LAST-MODIFIED:20250320T094128Z
UID:1567-1746266400-1746288000@bullaren.com
SUMMARY:Kul på Hjul 2025
DESCRIPTION:
URL:https://bullaren.com/evenemang/kul-pa-hjul-2025/
LOCATION:Bullaregården
END:VEVENT
BEGIN:VEVENT
DTSTART;TZID=Europe/Stockholm:20250501T100000
DTEND;TZID=Europe/Stockholm:20250501T130000
DTSTAMP:20260420T181343
CREATED:20250320T092451Z
LAST-MODIFIED:20250320T092706Z
UID:1543-1746093600-1746104400@bullaren.com
SUMMARY:Våffelcafé
DESCRIPTION:Kaffe och våfflor börjar vi åter servera från den 6 feb t.o.m. 1 maj.\nÖppet torsdagar mellan kl. 10-13. Hantverkshuset Östad. \nVälkommen!
URL:https://bullaren.com/evenemang/vaffelcafe-20/
LOCATION:Hantverkshuset på Östad
END:VEVENT
END:VCALENDAR