BEGIN:VCALENDAR
VERSION:2.0
PRODID:-//Bullaren.com - ECPv6.15.20//NONSGML v1.0//EN
CALSCALE:GREGORIAN
METHOD:PUBLISH
X-ORIGINAL-URL:https://bullaren.com
X-WR-CALDESC:Händelser för Bullaren.com
REFRESH-INTERVAL;VALUE=DURATION:PT1H
X-Robots-Tag:noindex
X-PUBLISHED-TTL:PT1H
BEGIN:VTIMEZONE
TZID:Europe/Stockholm
BEGIN:DAYLIGHT
TZOFFSETFROM:+0100
TZOFFSETTO:+0200
TZNAME:CEST
DTSTART:20250330T010000
END:DAYLIGHT
BEGIN:STANDARD
TZOFFSETFROM:+0200
TZOFFSETTO:+0100
TZNAME:CET
DTSTART:20251026T010000
END:STANDARD
BEGIN:DAYLIGHT
TZOFFSETFROM:+0100
TZOFFSETTO:+0200
TZNAME:CEST
DTSTART:20260329T010000
END:DAYLIGHT
BEGIN:STANDARD
TZOFFSETFROM:+0200
TZOFFSETTO:+0100
TZNAME:CET
DTSTART:20261025T010000
END:STANDARD
BEGIN:DAYLIGHT
TZOFFSETFROM:+0100
TZOFFSETTO:+0200
TZNAME:CEST
DTSTART:20270328T010000
END:DAYLIGHT
BEGIN:STANDARD
TZOFFSETFROM:+0200
TZOFFSETTO:+0100
TZNAME:CET
DTSTART:20271031T010000
END:STANDARD
END:VTIMEZONE
BEGIN:VEVENT
DTSTART;TZID=Europe/Stockholm:20260321T180000
DTEND;TZID=Europe/Stockholm:20260321T180000
DTSTAMP:20260420T204056
CREATED:20260303T085152Z
LAST-MODIFIED:20260303T085502Z
UID:2042-1774116000-1774116000@bullaren.com
SUMMARY:Westby Blues Band
DESCRIPTION:Westby Blues Band\nBullaregården\nLördag 21 mars kl. 18.00\nMiddag med dessert\n350 kr inkl mat\n175 kr endast entré\nLaddad bar! \nAnmälan senast 15 mars\nFolke 070 158 66 89\nDan 072 887 09 05 \nHjärtligt välkomna!
URL:https://bullaren.com/evenemang/westby-blues-band/
LOCATION:Bullaregården
END:VEVENT
END:VCALENDAR