BEGIN:VCALENDAR
VERSION:2.0
PRODID:-//Bullaren.com - ECPv6.15.20//NONSGML v1.0//EN
CALSCALE:GREGORIAN
METHOD:PUBLISH
X-WR-CALNAME:Bullaren.com
X-ORIGINAL-URL:https://bullaren.com
X-WR-CALDESC:Händelser för Bullaren.com
REFRESH-INTERVAL;VALUE=DURATION:PT1H
X-Robots-Tag:noindex
X-PUBLISHED-TTL:PT1H
BEGIN:VTIMEZONE
TZID:Europe/Stockholm
BEGIN:DAYLIGHT
TZOFFSETFROM:+0100
TZOFFSETTO:+0200
TZNAME:CEST
DTSTART:20240331T010000
END:DAYLIGHT
BEGIN:STANDARD
TZOFFSETFROM:+0200
TZOFFSETTO:+0100
TZNAME:CET
DTSTART:20241027T010000
END:STANDARD
BEGIN:DAYLIGHT
TZOFFSETFROM:+0100
TZOFFSETTO:+0200
TZNAME:CEST
DTSTART:20250330T010000
END:DAYLIGHT
BEGIN:STANDARD
TZOFFSETFROM:+0200
TZOFFSETTO:+0100
TZNAME:CET
DTSTART:20251026T010000
END:STANDARD
BEGIN:DAYLIGHT
TZOFFSETFROM:+0100
TZOFFSETTO:+0200
TZNAME:CEST
DTSTART:20260329T010000
END:DAYLIGHT
BEGIN:STANDARD
TZOFFSETFROM:+0200
TZOFFSETTO:+0100
TZNAME:CET
DTSTART:20261025T010000
END:STANDARD
END:VTIMEZONE
BEGIN:VEVENT
DTSTART;TZID=Europe/Stockholm:20251105T180000
DTEND;TZID=Europe/Stockholm:20251105T210000
DTSTAMP:20260421T032026
CREATED:20250904T113439Z
LAST-MODIFIED:20250925T080043Z
UID:1964-1762365600-1762376400@bullaren.com
SUMMARY:Höstkonsert med Bullarens Ukuleleensemble
DESCRIPTION:Höstkonsert med Bullarens Ukuleleensemble\nI Bullaregården\nonsdag 5 november kl. 18.00 \n\n\nSoppa\, bröd\, kaffe o kaka ingår.\n150 kr/pers \n\n\nLotteri med fina vinster. \nSång\, musik och mat i magen\nDet är en bra avslutning på dagen \n\n\nAnmälan: Rita 070-288 10 84 \n\n\nSista anmälningsdag 2 nov
URL:https://bullaren.com/evenemang/hostkonsert-med-bullarens-ukuleleensemble/
LOCATION:Bullaregården
END:VEVENT
END:VCALENDAR