BEGIN:VCALENDAR
VERSION:2.0
PRODID:-//Bullaren.com - ECPv6.15.20//NONSGML v1.0//EN
CALSCALE:GREGORIAN
METHOD:PUBLISH
X-ORIGINAL-URL:https://bullaren.com
X-WR-CALDESC:Händelser för Bullaren.com
REFRESH-INTERVAL;VALUE=DURATION:PT1H
X-Robots-Tag:noindex
X-PUBLISHED-TTL:PT1H
BEGIN:VTIMEZONE
TZID:Europe/Stockholm
BEGIN:DAYLIGHT
TZOFFSETFROM:+0100
TZOFFSETTO:+0200
TZNAME:CEST
DTSTART:20240331T010000
END:DAYLIGHT
BEGIN:STANDARD
TZOFFSETFROM:+0200
TZOFFSETTO:+0100
TZNAME:CET
DTSTART:20241027T010000
END:STANDARD
BEGIN:DAYLIGHT
TZOFFSETFROM:+0100
TZOFFSETTO:+0200
TZNAME:CEST
DTSTART:20250330T010000
END:DAYLIGHT
BEGIN:STANDARD
TZOFFSETFROM:+0200
TZOFFSETTO:+0100
TZNAME:CET
DTSTART:20251026T010000
END:STANDARD
BEGIN:DAYLIGHT
TZOFFSETFROM:+0100
TZOFFSETTO:+0200
TZNAME:CEST
DTSTART:20260329T010000
END:DAYLIGHT
BEGIN:STANDARD
TZOFFSETFROM:+0200
TZOFFSETTO:+0100
TZNAME:CET
DTSTART:20261025T010000
END:STANDARD
END:VTIMEZONE
BEGIN:VEVENT
DTSTART;TZID=Europe/Stockholm:20250921T170000
DTEND;TZID=Europe/Stockholm:20250921T190000
DTSTAMP:20260421T044010
CREATED:20250826T115202Z
LAST-MODIFIED:20250826T115737Z
UID:1953-1758474000-1758481200@bullaren.com
SUMMARY:Å Guschelöv för Gustav
DESCRIPTION:Å Guschelöv för Gustav \nTroll Skogsrå och dans bort i vägen. Målande ord och blå toner.\nStrunt är strunt och rosor är rosor.\nStrömt är strömt och dumt folk är… dumt folk. \nMedverkande\nLena Sörqvist reciterar ur Gustaf Frödings diktskatt.\nTomas Ferm framför egna tonsättningar av Frödings dikter i bluestappning. \nPå Bullaregården söndag 21 september\, kl. 17.00\nEntré 100 kr inkl. fika. \nHjärtligt välkomna! \n 
URL:https://bullaren.com/evenemang/a-guschelov-for-gustav/
LOCATION:Bullaregården
END:VEVENT
END:VCALENDAR