BEGIN:VCALENDAR
VERSION:2.0
PRODID:-//Bullaren.com - ECPv6.15.20//NONSGML v1.0//EN
CALSCALE:GREGORIAN
METHOD:PUBLISH
X-ORIGINAL-URL:https://bullaren.com
X-WR-CALDESC:Händelser för Bullaren.com
REFRESH-INTERVAL;VALUE=DURATION:PT1H
X-Robots-Tag:noindex
X-PUBLISHED-TTL:PT1H
BEGIN:VTIMEZONE
TZID:Europe/Stockholm
BEGIN:DAYLIGHT
TZOFFSETFROM:+0100
TZOFFSETTO:+0200
TZNAME:CEST
DTSTART:20240331T010000
END:DAYLIGHT
BEGIN:STANDARD
TZOFFSETFROM:+0200
TZOFFSETTO:+0100
TZNAME:CET
DTSTART:20241027T010000
END:STANDARD
BEGIN:DAYLIGHT
TZOFFSETFROM:+0100
TZOFFSETTO:+0200
TZNAME:CEST
DTSTART:20250330T010000
END:DAYLIGHT
BEGIN:STANDARD
TZOFFSETFROM:+0200
TZOFFSETTO:+0100
TZNAME:CET
DTSTART:20251026T010000
END:STANDARD
BEGIN:DAYLIGHT
TZOFFSETFROM:+0100
TZOFFSETTO:+0200
TZNAME:CEST
DTSTART:20260329T010000
END:DAYLIGHT
BEGIN:STANDARD
TZOFFSETFROM:+0200
TZOFFSETTO:+0100
TZNAME:CET
DTSTART:20261025T010000
END:STANDARD
END:VTIMEZONE
BEGIN:VEVENT
DTSTART;TZID=Europe/Stockholm:20250917T183000
DTEND;TZID=Europe/Stockholm:20250917T210000
DTSTAMP:20260421T044353
CREATED:20250831T091651Z
LAST-MODIFIED:20250831T093008Z
UID:1956-1758133800-1758142800@bullaren.com
SUMMARY:Peter cyklar mot cancer
DESCRIPTION:Peter och Carina Karnström berättar och visar bilder på färden från Riksgränsen hem till Bullaren. \nBullaregården onsdag 17 september\, kl. 18.30\nKaffeservering \nHjärtligt välkomna!
URL:https://bullaren.com/evenemang/peter-cyklar-mot-cancer/
LOCATION:Bullaregården
END:VEVENT
END:VCALENDAR