BEGIN:VCALENDAR
VERSION:2.0
PRODID:-//Bullaren.com - ECPv6.15.20//NONSGML v1.0//EN
CALSCALE:GREGORIAN
METHOD:PUBLISH
X-ORIGINAL-URL:https://bullaren.com
X-WR-CALDESC:Händelser för Bullaren.com
REFRESH-INTERVAL;VALUE=DURATION:PT1H
X-Robots-Tag:noindex
X-PUBLISHED-TTL:PT1H
BEGIN:VTIMEZONE
TZID:Europe/Stockholm
BEGIN:DAYLIGHT
TZOFFSETFROM:+0100
TZOFFSETTO:+0200
TZNAME:CEST
DTSTART:20240331T010000
END:DAYLIGHT
BEGIN:STANDARD
TZOFFSETFROM:+0200
TZOFFSETTO:+0100
TZNAME:CET
DTSTART:20241027T010000
END:STANDARD
BEGIN:DAYLIGHT
TZOFFSETFROM:+0100
TZOFFSETTO:+0200
TZNAME:CEST
DTSTART:20250330T010000
END:DAYLIGHT
BEGIN:STANDARD
TZOFFSETFROM:+0200
TZOFFSETTO:+0100
TZNAME:CET
DTSTART:20251026T010000
END:STANDARD
BEGIN:DAYLIGHT
TZOFFSETFROM:+0100
TZOFFSETTO:+0200
TZNAME:CEST
DTSTART:20260329T010000
END:DAYLIGHT
BEGIN:STANDARD
TZOFFSETFROM:+0200
TZOFFSETTO:+0100
TZNAME:CET
DTSTART:20261025T010000
END:STANDARD
END:VTIMEZONE
BEGIN:VEVENT
DTSTART;TZID=Europe/Stockholm:20250817T160000
DTEND;TZID=Europe/Stockholm:20250817T180000
DTSTAMP:20260421T060214
CREATED:20250808T140306Z
LAST-MODIFIED:20250808T141226Z
UID:1914-1755446400-1755453600@bullaren.com
SUMMARY:Bullarens älgskötselområde har årsmöte.
DESCRIPTION:Alla jaktledare har blivit informerade om resultat av drönarinventeringen vid ett möte i början av maj. Det var väldigt olika uppfattningar om resultatet av den\,\nDärför ber jag er jaktledare att prata ihop er med respektive lag så att alla i laget är överens så gott det går. // \nStyrelsen
URL:https://bullaren.com/evenemang/bullarens-algskotselomrade-har-arsmote/
LOCATION:Bullaregården
END:VEVENT
END:VCALENDAR